0.5
0
0
-0.5
610354
4539697
