0.5
0
0
-0.5
667380
4575530
