0.5
0
0
-0.5
745390
4591700
