0.5
0
0
-0.5
615611
4539778
