0.5
0
0
-0.5
688308
4576058
