0.5
0
0
-0.5
610250
4546635
