0.5
0
0
-0.5
620638
4553747
