0.5
0
0
-0.5
641356
4568016
