0.5
0
0
-0.5
646593
4568124
