0.5
0
0
-0.5
714263
4583742
