0.5
0
0
-0.5
714468
4576802
