0.5
0
0
-0.5
749889
4612703
