1.00000000000000000
0.00000000000000000
0.00000000000000000
-1.00000000000000000
690000.50000000000000000
1624999.50000000000000000
