1.00000000000000000
0.00000000000000000
0.00000000000000000
-1.00000000000000000
750000.50000000000000000
1594999.50000000000000000
