1.00000000000000000
0.00000000000000000
0.00000000000000000
-1.00000000000000000
700000.50000000000000000
1584999.50000000000000000
