1.00000000000000000
0.00000000000000000
0.00000000000000000
-1.00000000000000000
710000.50000000000000000
1574999.50000000000000000
