1.00000000000000000
0.00000000000000000
0.00000000000000000
-1.00000000000000000
720000.50000000000000000
1544999.50000000000000000
