1.00000000000000000
0.00000000000000000
0.00000000000000000
-1.00000000000000000
770000.50000000000000000
1539999.50000000000000000
