1.00000000000000000
0.00000000000000000
0.00000000000000000
-1.00000000000000000
740000.50000000000000000
1524999.50000000000000000
