1.00000000000000000
0.00000000000000000
0.00000000000000000
-1.00000000000000000
790000.50000000000000000
1519999.50000000000000000
