1.00000000000000000
0.00000000000000000
0.00000000000000000
-1.00000000000000000
695000.50000000000000000
1494999.50000000000000000
