1.00000000000000000
0.00000000000000000
0.00000000000000000
-1.00000000000000000
735000.50000000000000000
1474999.50000000000000000
