1.00000000000000000
0.00000000000000000
0.00000000000000000
-1.00000000000000000
715000.50000000000000000
1469999.50000000000000000
