1.00000000000000000
0.00000000000000000
0.00000000000000000
-1.00000000000000000
745000.50000000000000000
1399999.50000000000000000
