1.00000000000000000
0.00000000000000000
0.00000000000000000
-1.00000000000000000
795000.50000000000000000
1354999.50000000000000000
