1.00000000000000000
0.00000000000000000
0.00000000000000000
-1.00000000000000000
810000.50000000000000000
1319999.50000000000000000
