1.00000000000000000
0.00000000000000000
0.00000000000000000
-1.00000000000000000
800000.50000000000000000
1314999.50000000000000000
