1.00000000000000000
0.00000000000000000
0.00000000000000000
-1.00000000000000000
825000.50000000000000000
1299999.50000000000000000
