1.00000000000000000
0.00000000000000000
0.00000000000000000
-1.00000000000000000
785000.50000000000000000
1284999.50000000000000000
