1.00000000000000000
0.00000000000000000
0.00000000000000000
-1.00000000000000000
775000.50000000000000000
1279999.50000000000000000
