1.00000000000000000
0.00000000000000000
0.00000000000000000
-1.00000000000000000
395000.50000000000000000
2129999.50000000000000000
