1.00000000000000000
0.00000000000000000
0.00000000000000000
-1.00000000000000000
435000.50000000000000000
2119999.50000000000000000
