1.00000000000000000
0.00000000000000000
0.00000000000000000
-1.00000000000000000
420000.50000000000000000
2109999.50000000000000000
