1.00000000000000000
0.00000000000000000
0.00000000000000000
-1.00000000000000000
440000.50000000000000000
2059999.50000000000000000
