1.00000000000000000
0.00000000000000000
0.00000000000000000
-1.00000000000000000
445000.50000000000000000
2029999.50000000000000000
