1.00000000000000000
0.00000000000000000
0.00000000000000000
-1.00000000000000000
455000.50000000000000000
2004999.50000000000000000
