1.00000000000000000
0.00000000000000000
0.00000000000000000
-1.00000000000000000
485000.50000000000000000
1974999.50000000000000000
