1.00000000000000000
0.00000000000000000
0.00000000000000000
-1.00000000000000000
460000.50000000000000000
1959999.50000000000000000
