1.00000000000000000
0.00000000000000000
0.00000000000000000
-1.00000000000000000
425000.50000000000000000
1954999.50000000000000000
