1.00000000000000000
0.00000000000000000
0.00000000000000000
-1.00000000000000000
470000.50000000000000000
1949999.50000000000000000
