1.000000
0.000000
-0.000000
-1.000000
380000.500000
2334999.500000
