1.000000
0.000000
-0.000000
-1.000000
425000.500000
2329999.500000
