1.000000
0.000000
-0.000000
-1.000000
495000.500000
2324999.500000
