1.000000
0.000000
-0.000000
-1.000000
475000.500000
2319999.500000
