1.000000
0.000000
-0.000000
-1.000000
325000.500000
2304999.500000
