1.000000
0.000000
-0.000000
-1.000000
520000.500000
2304999.500000
