1.000000
0.000000
-0.000000
-1.000000
510000.500000
2299999.500000
