1.000000
0.000000
-0.000000
-1.000000
360000.500000
2294999.500000
