1.000000
0.000000
-0.000000
-1.000000
505000.500000
2289999.500000
