1.000000
0.000000
-0.000000
-1.000000
500000.500000
2269999.500000
